BEGIN:VCALENDAR
VERSION:2.0
PRODID:-//Britta Mangold - Weinerlebnisse am Bodensee - ECPv6.15.20//NONSGML v1.0//EN
CALSCALE:GREGORIAN
METHOD:PUBLISH
X-WR-CALNAME:Britta Mangold - Weinerlebnisse am Bodensee
X-ORIGINAL-URL:https://www.mangold-bodensee.de
X-WR-CALDESC:Veranstaltungen für Britta Mangold - Weinerlebnisse am Bodensee
REFRESH-INTERVAL;VALUE=DURATION:PT1H
X-Robots-Tag:noindex
X-PUBLISHED-TTL:PT1H
BEGIN:VTIMEZONE
TZID:UTC
BEGIN:STANDARD
TZOFFSETFROM:+0000
TZOFFSETTO:+0000
TZNAME:UTC
DTSTART:20240101T000000
END:STANDARD
END:VTIMEZONE
BEGIN:VEVENT
DTSTART;VALUE=DATE:20251011
DTEND;VALUE=DATE:20251012
DTSTAMP:20260426T042453
CREATED:20250107T202946Z
LAST-MODIFIED:20250107T202946Z
UID:1251-1760140800-1760227199@www.mangold-bodensee.de
SUMMARY:Wasserburger Genusswanderung 2025
DESCRIPTION:Im Rahmen des „Genussherbstes am Bodensee“ lädt die Tourist-Information Wasserburg am Samstag\, 11. Oktober 2025 zu einer Herbstlichen Genusswanderung – ganz nach dem Motto: Wandern\, Schlemmen und Entdecken rund um Wasserburg\, ein. Während der Wanderung genießen Sie traumhafte Ausblicke auf den Bodensee und das Alpenpanorama! Entlang einer abwechslungsreichen Wanderroute von rund 14 km Länge führt der Weg durch goldgelb und orangerot gefärbte Obstanlagen und Weinberge\, vorbei an besonderen Aussichtspunkten auf die idyllische Wasserburger Halbinsel. Lassen Sie sich an diesem Tag mit regionalen Köstlichkeiten verwöhnen\, erfahren Sie Wissenswertes über die wunderschöne Bodenseeregion\, lernen Sie Wasserburg kennen und hören Sie interessante Geschichten über Land und Leute. Beginn ab 8.00 Uhr mit der ersten Gruppe. Weitere Gruppen folgen mit zeitlichem Abstand von 45 Minuten. Bei diesem Event betreue ich jedes Jahr eine Station zum Thema Wein und Genuss. Lassen Sie sich überraschen…. Infos zu den einzelnen Stationen und Anmeldung: bitte direkt in der Tourist-Information Wasserburg. \n 
URL:https://www.mangold-bodensee.de/event/wasserburger-genusswanderung-2025/
LOCATION:Start:\, Lindenplatz\, Wasserburg\, 88142\, Deutschland
CATEGORIES:Weinevents
ATTACH;FMTTYPE=image/jpeg:https://www.mangold-bodensee.de/wp-content/uploads/2022/02/herbstshooting-lra_fs20-130.jpg
END:VEVENT
BEGIN:VEVENT
DTSTART;TZID=UTC:20251025T091500
DTEND;TZID=UTC:20251025T160000
DTSTAMP:20260426T042453
CREATED:20250107T203130Z
LAST-MODIFIED:20250107T203706Z
UID:1253-1761383700-1761408000@www.mangold-bodensee.de
SUMMARY:Weinerlebnistour 2025: WANDERN mit (W)EINBLICK & AUSBLICK
DESCRIPTION:Die genussvolle Wanderung startet in Lindau-Oberreitnau. Gästeführerin Britta Mangold führt Sie durchs Hinterland des Bodensees\, fernab vom Alltagstrubel. Der etwa 12 km lange Wanderweg verläuft über Hügel\, Wiesen und Wälder und offenbart traumhafte Blicke auf den See und in die herrliche Landschaft im Umland. Auf der geführten Tour hören Sie heiter-interessante Geschichten rund um den See\, verkosten neben Secco und verschiedenen Weinen regionale Leckereien an verschiedenen Raststationen\, ehe wir den Endpunkt der Tour\, das Bio Weingut 2H erreichen. Dort werden Sie vom Winzerpaar Kerstin & Wolfgang zu einem gemütlichen Essen empfangen und in die Welt ihrer PIWI-Weine in die Zukunft des ECHT nachhaltigen Weinbaus entführt – eine kulinarische Wanderung ganz nach dem Motto: Weg vom See\, aber doch so schee! \nDer Preis von 89 Euro pro Person beinhaltet eine geführte ca. 7-stündige Tour mit Erläuterungen\, Wasser\, Secco\, Weinverkostung\, Snacks\, Käse\, Brot an verschiedenen Raststationen und eine warme Mahlzeit im Weingut 2H. Ermäßigung mit der ECHT BODENSEE CARD. Für weitere Infos zur Anreise und Rückreise sowie zur Anmeldung klicken Sie bitte hier. \n 
URL:https://www.mangold-bodensee.de/event/weinerlebnistour-2025-wandern-mit-weinblick-ausblick/
LOCATION:Freizeitzentrum Oberreitnau\, Parkweg 8\, Lindau\, 88131
CATEGORIES:Weinevents,Weinführungen
ATTACH;FMTTYPE=image/png:https://www.mangold-bodensee.de/wp-content/uploads/2023/08/Beitragsbild-Homepage.png
END:VEVENT
END:VCALENDAR